BEGIN:VCALENDAR
VERSION:2.0
PRODID:-//ChamberMaster//Event Calendar 2.0//EN
METHOD:PUBLISH
X-PUBLISHED-TTL:P1H
REFRESH-INTERVAL:P1H
CALSCALE:GREGORIAN
BEGIN:VTIMEZONE
TZID:America/New_York
BEGIN:DAYLIGHT
RRULE:FREQ=YEARLY;BYMONTH=3;BYDAY=2SU
DTSTART:20070101T000000
TZOFFSETFROM:-0500
TZOFFSETTO:-0400
TZNAME:Eastern Daylight Time
END:DAYLIGHT
BEGIN:STANDARD
RRULE:FREQ=YEARLY;BYMONTH=11;BYDAY=1SU
DTSTART:20070101T000000
TZOFFSETFROM:-0400
TZOFFSETTO:-0500
TZNAME:Eastern Standard Time
END:STANDARD
END:VTIMEZONE
BEGIN:VEVENT
DTSTART;TZID=America/New_York:20241009T084500
DTEND;TZID=America/New_York:20241009T170000
X-MICROSOFT-CDO-ALLDAYEVENT:FALSE
SUMMARY:Annual Membership Meeting & TRADE SHOW
DESCRIPTION:Annual Membership Conference Agenda~ Wednesday\, October 9th\, 2024~\n8:45AM   10:45AMTRADE SHOWEnjoy Coffee\, Light Breakfast\, & Networking!11:00AM   12:00PMGENERAL MEMBERSHIP MEETING & *GUEST SPEAKERS*Denise Lewis\, President Elect - Maryland REALTORS  *Chuck Kasky\, Chief Executive Officer - Maryland REALTORS 12:00PM   12:30PM~ Lunch Buffet Begins ~12:30PM   2:00PMGUEST PRESENTERS AND LEGAL Q&A*Adam Iobst\, Director of Broker Relations - Bright MLS*Kacy Clouser\, Associate Counsel - Pennsylvania Association of Realtors 2:30PM   3:30PMREALTOR  AGENT WORKSHOP: FINDING SUCCESS WITH BRIGHT MLSKen Stone\, Customer Success Coach - Bright MLS2:45PM   3:45PMBROKER & LEADERSHIP ROUNDTABLE DISCUSSION(For brokers\, assistant brokers\, and office managers)4:00PM   5:00PMHAPPY HOUR!
X-ALT-DESC;FMTTYPE=text/html:<!DOCTYPE html><html><head><title></title></head><body aria-disabled="false"><p align="center" style="text-align:center\;"><strong fr-original-style="" style="font-weight: 700\;">Annual Membership Conference Agenda</strong></p><p align="center" style="text-align:center\;">~ Wednesday\, October 9<sup>th</sup>\, 2024~</p><p align="center" style="text-align:center\;"><br></p><p align="center" style="text-align:center\;"><strong fr-original-style="" style="font-weight: 700\;"><u>8:45AM &ndash\; 10:45AM</u></strong></p><p align="center" style="text-align:center\;">TRADE SHOW</p><p align="center" style="text-align:center\;"><em>Enjoy Coffee\, Light Breakfast\, &amp\; Networking!</em></p><p align="center" style="text-align:center\;"><strong fr-original-style="" style="font-weight: 700\;"><u>11:00AM &ndash\; 12:00PM</u></strong></p><p align="center" style="text-align:center\;">GENERAL MEMBERSHIP MEETING &amp\; *GUEST SPEAKERS</p><p align="center" style="text-align:center\;"><em>*Denise Lewis\, President Elect - Maryland REALTORS&reg\;&nbsp\;</em></p><p align="center" style="text-align:center\;"><em>*Chuck Kasky\, Chief Executive Officer - Maryland REALTORS&reg\;</em></p><p align="center" style="text-align:center\;"><strong fr-original-style="" style="font-weight: 700\;"><u>12:00PM &ndash\; 12:30PM</u></strong></p><p align="center" style="text-align:center\;">~ Lunch Buffet Begins ~</p><p align="center" style="text-align:center\;"><strong fr-original-style="" style="font-weight: 700\;"><u>12:30PM</u></strong><u>&nbsp\;<strong fr-original-style="" style="font-weight: 700\;">&ndash\; 2:00PM</strong></u></p><p align="center" style="text-align:center\;">GUEST PRESENTERS AND LEGAL Q&amp\;A</p><p align="center" style="text-align:center\;"><em>*Adam Iobst\, Director of Broker Relations - Bright MLS</em></p><p align="center" style="text-align:center\;"><em>*Kacy Clouser\, Associate Counsel - Pennsylvania Association of Realtors&reg\;</em></p><p align="center" style="text-align:center\;"><strong fr-original-style="" style="font-weight: 700\;"><u>2:30PM</u></strong><u>&nbsp\;<strong fr-original-style="" style="font-weight: 700\;">&ndash\; 3:30PM</strong></u></p><p align="center" style="text-align:center\;">REALTOR&reg\; AGENT WORKSHOP: FINDING SUCCESS WITH BRIGHT MLS</p><p align="center" style="text-align:center\;"><em>Ken Stone\, Customer Success Coach - Bright MLS</em></p><p align="center" style="text-align:center\;"><strong fr-original-style="" style="font-weight: 700\;"><u>2:45PM &ndash\; 3:45PM</u></strong></p><p align="center" style="text-align:center\;">BROKER &amp\; LEADERSHIP ROUNDTABLE DISCUSSION</p><p align="center" style="text-align:center\;"><em>(For brokers\, assistant brokers\, and office managers)</em></p><p align="center" style="text-align:center\;"><strong fr-original-style="" style="font-weight: 700\;"><u>4:00PM &ndash\; 5:00PM</u></strong></p><p align="center" style="text-align:center\;">HAPPY HOUR!</p></body></html>
LOCATION:3646 Scotland Rd Chambersburg 17202
UID:e.3082.1039755
SEQUENCE:3
DTSTAMP:20260420T012542Z
URL:https://members.penmarrealtors.org/events/Details/annual-membership-meeting-trade-show-1198267?sourceTypeId=Hub
END:VEVENT
END:VCALENDAR
