BEGIN:VCALENDAR
VERSION:2.0
PRODID:-//ChamberMaster//Event Calendar 2.0//EN
METHOD:PUBLISH
X-PUBLISHED-TTL:P1H
REFRESH-INTERVAL:P1H
CALSCALE:GREGORIAN
BEGIN:VTIMEZONE
TZID:America/New_York
BEGIN:DAYLIGHT
RRULE:FREQ=YEARLY;BYMONTH=3;BYDAY=2SU
DTSTART:20070101T000000
TZOFFSETFROM:-0500
TZOFFSETTO:-0400
TZNAME:Eastern Daylight Time
END:DAYLIGHT
BEGIN:STANDARD
RRULE:FREQ=YEARLY;BYMONTH=11;BYDAY=1SU
DTSTART:20070101T000000
TZOFFSETFROM:-0400
TZOFFSETTO:-0500
TZNAME:Eastern Standard Time
END:STANDARD
END:VTIMEZONE
BEGIN:VEVENT
DTSTART;TZID=America/New_York:20241107T090000
DTEND;TZID=America/New_York:20241107T103000
X-MICROSOFT-CDO-ALLDAYEVENT:FALSE
SUMMARY:Contracts-MD (Zoom)
DESCRIPTION:By the completion of this class\, the agent will have reviewed both the GCAAR and Maryland REALTORS  sales contracts and have the knowledge to understand what information they must provide to buyers and sellers\, their parties obligations\, possible pitfalls to avoid and how to avoid them\, and timelines of contract fulfillment.Special Accommodations: If you require special accommodations for remote learning classes\, please notify us at least 72 hours prior to the class date. Your timely communication allows us to ensure that all necessary arrangements are in place to support your learning experience effectively. Thank you for your cooperation and understanding.Please read over the Remote Learning GuidelinesClick Here
X-ALT-DESC;FMTTYPE=text/html:<!DOCTYPE html><html><head><title></title></head><body aria-disabled="false"><p>By the completion of this class\, the agent will have reviewed both the GCAAR and Maryland REALTORS&reg\; sales contracts and have the knowledge to understand what information they must provide to buyers and sellers\, their parties obligations\, possible pitfalls to avoid and how to avoid them\, and timelines of contract fulfillment.</p><p><span style="color: rgb(5\, 4\, 170)\;"><u><strong fr-original-style="" style="font-weight: 700\;">Special Accommodations:</strong></u></span> If you require special accommodations for remote learning classes\, please notify us <strong fr-original-style="" style="font-weight: 700\;">at least 72 hours prior to the class date</strong>. Your timely communication allows us to ensure that all necessary arrangements are in place to support your learning experience effectively. Thank you for your cooperation and understanding.</p><p><strong fr-original-style="" style="font-weight: 700\;">Please read over the Remote Learning Guidelines</strong></p><p><a fr-original-style="" href="https://www.penmarrealtors.org/assets/pdf/Remote+Learning+Guidelines/" rel="noopener noreferrer" style="user-select: auto\;" target="_blank"><strong fr-original-style="" style="font-weight: 700\;">Click Here</strong></a></p></body></html>
LOCATION:
UID:e.3082.928411
SEQUENCE:3
DTSTAMP:20260425T182327Z
URL:https://members.penmarrealtors.org/events/Details/contracts-md-zoom-1054432?sourceTypeId=Hub
END:VEVENT
END:VCALENDAR
